Workbook

Sheet Monat
A1: Gewohnheit | B1: 1 | C1: 2 | D1: 3 | E1: 4 | F1: 5 | G1: 6 | H1: 7 | I1: 8 | J1: 9 | K1: 10 | L1: 11 | M1: 12 | N1: 13 | O1: 14 | P1: 15 | Q1: 16 | R1: 17 | S1: 18 | T1: 19 | U1: 20 | V1: 21 | W1: 22 | X1: 23 | Y1: 24 | Z1: 25 | AA1: 26 | AB1: 27 | AC1: 28 | AD1: 29 | AE1: 30 | AF1: 31 | AG1: Erledigt | AH1: Ziel (Tage) | AI1: % des Ziels
AG2: =COUNTIF(B2:AF2,"x") | AH2: 20 | AI2: =IF(AH2>0,AG2/AH2,0)
AG3: =COUNTIF(B3:AF3,"x") | AH3: 20 | AI3: =IF(AH3>0,AG3/AH3,0)
AG4: =COUNTIF(B4:AF4,"x") | AH4: 20 | AI4: =IF(AH4>0,AG4/AH4,0)
AG5: =COUNTIF(B5:AF5,"x") | AH5: 20 | AI5: =IF(AH5>0,AG5/AH5,0)
AG6: =COUNTIF(B6:AF6,"x") | AH6: 20 | AI6: =IF(AH6>0,AG6/AH6,0)
AG7: =COUNTIF(B7:AF7,"x") | AH7: 20 | AI7: =IF(AH7>0,AG7/AH7,0)
AG8: =COUNTIF(B8:AF8,"x") | AH8: 20 | AI8: =IF(AH8>0,AG8/AH8,0)
AG9: =COUNTIF(B9:AF9,"x") | AH9: 20 | AI9: =IF(AH9>0,AG9/AH9,0)
AG10: =COUNTIF(B10:AF10,"x") | AH10: 20 | AI10: =IF(AH10>0,AG10/AH10,0)
AG11: =COUNTIF(B11:AF11,"x") | AH11: 20 | AI11: =IF(AH11>0,AG11/AH11,0)
A13: Setze ein x in das Feld, wenn die Gewohnheit erledigt ist. Erledigt, % und Punkte rechnen sich selbst. Kostenlose Vorlage von Reef, reeftogether.com/de/tools/habit-tracker-vorlage/

Sheet Woche
A1: Gewohnheit | B1: Mo | C1: Di | D1: Mi | E1: Do | F1: Fr | G1: Sa | H1: So | I1: Erledigt
I2: =COUNTIF(B2:H2,"x")
I3: =COUNTIF(B3:H3,"x")
I4: =COUNTIF(B4:H4,"x")
I5: =COUNTIF(B5:H5,"x")
I6: =COUNTIF(B6:H6,"x")
I7: =COUNTIF(B7:H7,"x")
I8: =COUNTIF(B8:H8,"x")
I9: =COUNTIF(B9:H9,"x")
I10: =COUNTIF(B10:H10,"x")
I11: =COUNTIF(B11:H11,"x")
A13: Setze ein x in das Feld, wenn die Gewohnheit erledigt ist. Erledigt, % und Punkte rechnen sich selbst. Kostenlose Vorlage von Reef, reeftogether.com/de/tools/habit-tracker-vorlage/

Sheet Punktetafel
A1: Gewohnheit | B1: Erledigt | C1: Punkte pro Tag | D1: Punkte
A2: =IF('Monat'!A2="","",'Monat'!A2) | B2: ='Monat'!AG2 | C2: 10 | D2: =B2*C2
A3: =IF('Monat'!A3="","",'Monat'!A3) | B3: ='Monat'!AG3 | C3: 10 | D3: =B3*C3
A4: =IF('Monat'!A4="","",'Monat'!A4) | B4: ='Monat'!AG4 | C4: 10 | D4: =B4*C4
A5: =IF('Monat'!A5="","",'Monat'!A5) | B5: ='Monat'!AG5 | C5: 10 | D5: =B5*C5
A6: =IF('Monat'!A6="","",'Monat'!A6) | B6: ='Monat'!AG6 | C6: 10 | D6: =B6*C6
A7: =IF('Monat'!A7="","",'Monat'!A7) | B7: ='Monat'!AG7 | C7: 10 | D7: =B7*C7
A8: =IF('Monat'!A8="","",'Monat'!A8) | B8: ='Monat'!AG8 | C8: 10 | D8: =B8*C8
A9: =IF('Monat'!A9="","",'Monat'!A9) | B9: ='Monat'!AG9 | C9: 10 | D9: =B9*C9
A10: =IF('Monat'!A10="","",'Monat'!A10) | B10: ='Monat'!AG10 | C10: 10 | D10: =B10*C10
A11: =IF('Monat'!A11="","",'Monat'!A11) | B11: ='Monat'!AG11 | C11: 10 | D11: =B11*C11
A12: Gesamt | D12: =SUM(D2:D11)
A14: Setze ein x in das Feld, wenn die Gewohnheit erledigt ist. Erledigt, % und Punkte rechnen sich selbst. Kostenlose Vorlage von Reef, reeftogether.com/de/tools/habit-tracker-vorlage/
